BEGIN:VCALENDAR
VERSION:2.0
PRODID:-//Hugs Children&#039;s Cancer Charity - ECPv6.15.12.2//NONSGML v1.0//EN
CALSCALE:GREGORIAN
METHOD:PUBLISH
X-ORIGINAL-URL:https://hugsccc.com
X-WR-CALDESC:Events for Hugs Children&#039;s Cancer Charity
REFRESH-INTERVAL;VALUE=DURATION:PT1H
X-Robots-Tag:noindex
X-PUBLISHED-TTL:PT1H
BEGIN:VTIMEZONE
TZID:Europe/London
BEGIN:DAYLIGHT
TZOFFSETFROM:+0000
TZOFFSETTO:+0100
TZNAME:BST
DTSTART:20250330T010000
END:DAYLIGHT
BEGIN:STANDARD
TZOFFSETFROM:+0100
TZOFFSETTO:+0000
TZNAME:GMT
DTSTART:20251026T010000
END:STANDARD
BEGIN:DAYLIGHT
TZOFFSETFROM:+0000
TZOFFSETTO:+0100
TZNAME:BST
DTSTART:20260329T010000
END:DAYLIGHT
BEGIN:STANDARD
TZOFFSETFROM:+0100
TZOFFSETTO:+0000
TZNAME:GMT
DTSTART:20261025T010000
END:STANDARD
BEGIN:DAYLIGHT
TZOFFSETFROM:+0000
TZOFFSETTO:+0100
TZNAME:BST
DTSTART:20270328T010000
END:DAYLIGHT
BEGIN:STANDARD
TZOFFSETFROM:+0100
TZOFFSETTO:+0000
TZNAME:GMT
DTSTART:20271031T010000
END:STANDARD
BEGIN:DAYLIGHT
TZOFFSETFROM:+0000
TZOFFSETTO:+0100
TZNAME:BST
DTSTART:20280326T010000
END:DAYLIGHT
BEGIN:STANDARD
TZOFFSETFROM:+0100
TZOFFSETTO:+0000
TZNAME:GMT
DTSTART:20281029T010000
END:STANDARD
END:VTIMEZONE
BEGIN:VEVENT
DTSTART;TZID=Europe/London:20260515T100000
DTEND;TZID=Europe/London:20260515T180000
DTSTAMP:20260421T092319
CREATED:20260203T203356Z
LAST-MODIFIED:20260203T203448Z
UID:11417-1778839200-1778868000@hugsccc.com
SUMMARY:Hugs Charity Golf Day
DESCRIPTION:Come and join Hugs for their annual golf day at Staddon Heights Golf Club\, with a bacon sandwich and coffee to start and a meal and presentation in the afternoon. \nPrizes for the top team\, nearest pin and longest drive! Texas scramble format. \nTeam of 4 players – £250\, or £300 with hole sponsorship. \nWe have a range of sponsorship packages available for this event. A great way to advertise your business while also supporting our charity. \nFor more info\, email jemma@hugsccc.com or call 07789 336232
URL:https://hugsccc.com/event/hugs-charity-golf-day/
LOCATION:Staddon Heights Golf Club\, Staddon Heights Golf Club\, Plymouth\, Devon\, PL9 9SP\, United Kingdom
CATEGORIES:Event
ATTACH;FMTTYPE=image/jpeg:https://hugsccc.com/wp-content/uploads/2026/02/56a7bbad-ba27-4f55-90e7-d23ec4c8f972.jpg
ORGANIZER;CN="Hugs Children's Cancer Charity":MAILTO:fundraising@hugsccc.com
END:VEVENT
BEGIN:VEVENT
DTSTART;VALUE=DATE:20260905
DTEND;VALUE=DATE:20260906
DTSTAMP:20260421T092319
CREATED:20251119T102002Z
LAST-MODIFIED:20251119T103120Z
UID:11328-1788566400-1788652799@hugsccc.com
SUMMARY:Three Peaks Challenge (TBC)
DESCRIPTION:The 3 peaks mountains – Cynthia Spencer Hospice | Northampton \nThe Three Peaks Challenge is a demanding physical and mental endurance test that involves climbing the highest mountains in Scotland\, England\, and Wales within a 24-hour timeframe. \nFundraising Date: TBC \nFundraising Target: £TBC \nRegister your interest: fundraising@hugsccc.com
URL:https://hugsccc.com/event/three-peaks-challenge/
LOCATION:Devon
CATEGORIES:Event
ATTACH;FMTTYPE=image/jpeg:https://hugsccc.com/wp-content/uploads/2025/08/hugs-childrens-cancer-charity-events-3-peaks-challenge-1.jpg
ORGANIZER;CN="Hugs Children's Cancer Charity":MAILTO:fundraising@hugsccc.com
END:VEVENT
BEGIN:VEVENT
DTSTART;VALUE=DATE:20261107
DTEND;VALUE=DATE:20271108
DTSTAMP:20260421T092319
CREATED:20260203T204257Z
LAST-MODIFIED:20260203T204343Z
UID:11431-1794009600-1825631999@hugsccc.com
SUMMARY:Strictly Hugs Dancing
DESCRIPTION:We are excited to announce that our partnership with Empower Dance & Fitness Studios will be moving forward into 2026. \nNext year we will showcasing 8 novice\, local people to take on the challenge of learning a ballroom or Latin dance routine at the Crowne Plaza Plymouth with pl1events  \nWe are now looking for event sponsors\, if you are interested in how you can get involved please email fundraising@hugsccc.com
URL:https://hugsccc.com/event/strictly-hugs-dancing/
LOCATION:Crowne Plaza Plymouth by IHG\, Armada Way\, Plymouth\, Devon\, PL1 2HJ\, United Kingdom
CATEGORIES:Event
ATTACH;FMTTYPE=image/jpeg:https://hugsccc.com/wp-content/uploads/2026/02/597890167_888462150220833_4739653828470159446_n.jpg
ORGANIZER;CN="Hugs Children's Cancer Charity":MAILTO:fundraising@hugsccc.com
END:VEVENT
END:VCALENDAR